Package: cleanUpdTSeq Version: 1.49.0 Command: /home/biocbuild/bbs-3.23-bioc/R/bin/R CMD build --keep-empty-dirs --no-resave-data cleanUpdTSeq StartedAt: 2025-11-04 16:47:07 -0500 (Tue, 04 Nov 2025) EndedAt: 2025-11-04 16:48:28 -0500 (Tue, 04 Nov 2025) EllapsedTime: 81.1 seconds RetCode: 0 Status: OK PackageFile: cleanUpdTSeq_1.49.0.tar.gz PackageFileSize: 4.008 MiB