Package: cleanUpdTSeq Version: 1.49.0 Command: /Library/Frameworks/R.framework/Resources/bin/R CMD check --install=check:cleanUpdTSeq.install-out.txt --library=/Library/Frameworks/R.framework/Resources/library --no-vignettes --timings cleanUpdTSeq_1.49.0.tar.gz StartedAt: 2025-11-23 19:05:03 -0500 (Sun, 23 Nov 2025) EndedAt: 2025-11-23 19:07:10 -0500 (Sun, 23 Nov 2025) EllapsedTime: 126.6 seconds RetCode: 0 Status: OK CheckDir: cleanUpdTSeq.Rcheck Warnings: 0