Package: cisPath Version: 1.49.1 Command: F:\biocbuild\bbs-3.22-bioc\R\bin\R.exe CMD INSTALL cisPath StartedAt: 2025-08-14 15:17:13 -0400 (Thu, 14 Aug 2025) EndedAt: 2025-08-14 15:18:47 -0400 (Thu, 14 Aug 2025) EllapsedTime: 93.6 seconds RetCode: 1 Status: ERROR