Package: cisPath Version: 1.49.1 Command: chmod a+r cisPath -R && F:\biocbuild\bbs-3.22-bioc\R\bin\R.exe CMD build --keep-empty-dirs --no-resave-data cisPath StartedAt: 2025-08-14 19:08:22 -0400 (Thu, 14 Aug 2025) EndedAt: 2025-08-14 19:08:38 -0400 (Thu, 14 Aug 2025) EllapsedTime: 16.7 seconds RetCode: 1 Status: ERROR PackageFile: None PackageFileSize: NA