Package: cisPath Version: 1.49.0 Command: rm -rf cisPath.buildbin-libdir && mkdir cisPath.buildbin-libdir && F:\biocbuild\bbs-3.22-bioc\R\bin\R.exe CMD INSTALL --build --library=cisPath.buildbin-libdir cisPath_1.49.0.tar.gz StartedAt: 2025-07-24 08:49:37 -0400 (Thu, 24 Jul 2025) EndedAt: 2025-07-24 08:50:03 -0400 (Thu, 24 Jul 2025) EllapsedTime: 26.3 seconds RetCode: 0 Status: OK PackageFile: cisPath_1.49.0.zip PackageFileSize: 1.266 MiB