Package: circRNAprofiler Version: 1.25.0 Command: /home/biocbuild/bbs-3.23-bioc/R/bin/R CMD INSTALL circRNAprofiler StartedAt: 2025-11-05 15:48:27 -0500 (Wed, 05 Nov 2025) EndedAt: 2025-11-05 15:49:19 -0500 (Wed, 05 Nov 2025) EllapsedTime: 52.1 seconds RetCode: 0 Status: OK