Package: circRNAprofiler Version: 1.25.0 Command: /home/biocbuild/bbs-3.23-bioc/R/bin/R CMD build --keep-empty-dirs --no-resave-data circRNAprofiler StartedAt: 2025-11-04 16:46:55 -0500 (Tue, 04 Nov 2025) EndedAt: 2025-11-04 16:48:18 -0500 (Tue, 04 Nov 2025) EllapsedTime: 83.1 seconds RetCode: 0 Status: OK PackageFile: circRNAprofiler_1.25.0.tar.gz PackageFileSize: 3.642 MiB