Package: circRNAprofiler Version: 1.23.1 Command: /Library/Frameworks/R.framework/Resources/bin/R CMD INSTALL circRNAprofiler StartedAt: 2025-10-13 15:39:38 -0400 (Mon, 13 Oct 2025) EndedAt: 2025-10-13 15:40:53 -0400 (Mon, 13 Oct 2025) EllapsedTime: 74.5 seconds RetCode: 0 Status: OK