Package: circRNAprofiler Version: 1.23.1 Command: rm -rf circRNAprofiler.buildbin-libdir && mkdir circRNAprofiler.buildbin-libdir && /Users/biocbuild/BBS/utils/build-universal.sh circRNAprofiler_1.23.1.tar.gz /Library/Frameworks/R.framework/Resources/bin/R circRNAprofiler.buildbin-libdir StartedAt: 2025-10-14 02:36:38 -0400 (Tue, 14 Oct 2025) EndedAt: 2025-10-14 02:37:52 -0400 (Tue, 14 Oct 2025) EllapsedTime: 74.0 seconds RetCode: 0 Status: OK PackageFile: circRNAprofiler_1.23.1.tgz PackageFileSize: 3.553 MiB