Package: circRNAprofiler Version: 1.24.0 Maintainer: Simona Aufiero MaintainerEmail: simo.aufiero at gmail.com git_url: https://git.bioconductor.org/packages/circRNAprofiler git_branch: RELEASE_3_22 git_last_commit: 8f3c453 git_last_commit_date: 2025-10-29 10:53:06 -0400 (Wed, 29 Oct 2025)