Package: cigarillo Version: 0.99.1 Command: /home/biocbuild/bbs-3.22-bioc/R/bin/R CMD build --keep-empty-dirs --no-resave-data --md5 cigarillo StartedAt: 2025-10-24 17:00:19 -0400 (Fri, 24 Oct 2025) EndedAt: 2025-10-24 17:00:35 -0400 (Fri, 24 Oct 2025) EllapsedTime: 16.0 seconds RetCode: 0 Status: OK PackageFile: cigarillo_0.99.1.tar.gz PackageFileSize: 252.2 KiB