Package: cicero Version: 1.29.0 Command: /home/biocbuild/bbs-3.23-bioc/R/bin/R CMD INSTALL cicero StartedAt: 2025-11-20 15:47:23 -0500 (Thu, 20 Nov 2025) EndedAt: 2025-11-20 15:48:22 -0500 (Thu, 20 Nov 2025) EllapsedTime: 59.0 seconds RetCode: 0 Status: OK