Package: cicero Version: 1.29.0 Command: /Library/Frameworks/R.framework/Resources/bin/R CMD INSTALL cicero StartedAt: 2025-11-23 15:51:33 -0500 (Sun, 23 Nov 2025) EndedAt: 2025-11-23 15:52:51 -0500 (Sun, 23 Nov 2025) EllapsedTime: 78.5 seconds RetCode: 0 Status: OK