Package: cicero Version: 1.29.0 Command: /Library/Frameworks/R.framework/Resources/bin/R CMD build --keep-empty-dirs --no-resave-data cicero StartedAt: 2025-11-23 16:34:09 -0500 (Sun, 23 Nov 2025) EndedAt: 2025-11-23 16:36:20 -0500 (Sun, 23 Nov 2025) EllapsedTime: 131.4 seconds RetCode: 0 Status: OK PackageFile: cicero_1.29.0.tar.gz PackageFileSize: 1.193 MiB