Package: cicero Version: 1.29.0 Command: /Library/Frameworks/R.framework/Resources/bin/R CMD INSTALL cicero StartedAt: 2025-11-21 15:25:44 -0500 (Fri, 21 Nov 2025) EndedAt: 2025-11-21 15:26:07 -0500 (Fri, 21 Nov 2025) EllapsedTime: 22.6 seconds RetCode: 0 Status: OK