Package: cicero Version: 1.29.0 Command: /Library/Frameworks/R.framework/Resources/bin/R CMD build --keep-empty-dirs --no-resave-data cicero StartedAt: 2025-11-21 15:54:16 -0500 (Fri, 21 Nov 2025) EndedAt: 2025-11-21 15:55:00 -0500 (Fri, 21 Nov 2025) EllapsedTime: 43.5 seconds RetCode: 0 Status: OK PackageFile: cicero_1.29.0.tar.gz PackageFileSize: 1.193 MiB