Package: chromVAR Version: 1.33.0 Command: /home/biocbuild/bbs-3.23-bioc/R/bin/R CMD INSTALL chromVAR StartedAt: 2025-11-20 15:53:11 -0500 (Thu, 20 Nov 2025) EndedAt: 2025-11-20 15:53:44 -0500 (Thu, 20 Nov 2025) EllapsedTime: 32.7 seconds RetCode: 1 Status: ERROR