Package: chromVAR Version: 1.33.0 Command: /home/biocbuild/bbs-3.23-bioc/R/bin/R CMD build --keep-empty-dirs --no-resave-data chromVAR StartedAt: 2025-11-20 16:48:55 -0500 (Thu, 20 Nov 2025) EndedAt: 2025-11-20 16:49:27 -0500 (Thu, 20 Nov 2025) EllapsedTime: 32.0 seconds RetCode: 1 Status: ERROR PackageFile: None PackageFileSize: NA