Package: chromVAR Version: 1.31.1 Command: /Library/Frameworks/R.framework/Resources/bin/R CMD INSTALL chromVAR StartedAt: 2025-10-10 15:29:42 -0400 (Fri, 10 Oct 2025) EndedAt: 2025-10-10 15:30:06 -0400 (Fri, 10 Oct 2025) EllapsedTime: 24.0 seconds RetCode: 0 Status: OK