Package: chromVAR Version: 1.31.1 Command: /Library/Frameworks/R.framework/Resources/bin/R CMD build --keep-empty-dirs --no-resave-data chromVAR StartedAt: 2025-10-10 15:57:37 -0400 (Fri, 10 Oct 2025) EndedAt: 2025-10-10 15:58:33 -0400 (Fri, 10 Oct 2025) EllapsedTime: 56.6 seconds RetCode: 0 Status: OK PackageFile: chromVAR_1.31.1.tar.gz PackageFileSize: 502.9 KiB