Package: chromVAR Version: 1.31.1 Command: rm -rf chromVAR.buildbin-libdir && mkdir chromVAR.buildbin-libdir && /Users/biocbuild/BBS/utils/build-universal.sh chromVAR_1.31.1.tar.gz /Library/Frameworks/R.framework/Resources/bin/R chromVAR.buildbin-libdir StartedAt: 2025-10-10 22:35:48 -0400 (Fri, 10 Oct 2025) EndedAt: 2025-10-10 22:36:13 -0400 (Fri, 10 Oct 2025) EllapsedTime: 25.5 seconds RetCode: 0 Status: OK PackageFile: chromVAR_1.31.1.tgz PackageFileSize: 1.373 MiB