Package: chromPlot Version: 1.37.0 Command: F:\biocbuild\bbs-3.22-bioc\R\bin\R.exe CMD INSTALL chromPlot StartedAt: 2025-08-14 17:02:52 -0400 (Thu, 14 Aug 2025) EndedAt: 2025-08-14 17:03:17 -0400 (Thu, 14 Aug 2025) EllapsedTime: 25.1 seconds RetCode: 0 Status: OK