Package: chromPlot Version: 1.37.0 Command: rm -rf chromPlot.buildbin-libdir && mkdir chromPlot.buildbin-libdir && F:\biocbuild\bbs-3.22-bioc\R\bin\R.exe CMD INSTALL --build --library=chromPlot.buildbin-libdir chromPlot_1.37.0.tar.gz StartedAt: 2025-08-15 09:57:28 -0400 (Fri, 15 Aug 2025) EndedAt: 2025-08-15 09:57:57 -0400 (Fri, 15 Aug 2025) EllapsedTime: 29.2 seconds RetCode: 0 Status: OK PackageFile: chromPlot_1.37.0.zip PackageFileSize: 1.428 MiB