Package: chromPlot Version: 1.39.0 Command: /home/biocbuild/bbs-3.23-bioc/R/bin/R CMD INSTALL chromPlot StartedAt: 2025-11-06 15:57:59 -0500 (Thu, 06 Nov 2025) EndedAt: 2025-11-06 15:58:16 -0500 (Thu, 06 Nov 2025) EllapsedTime: 16.5 seconds RetCode: 0 Status: OK