Package: chromPlot Version: 1.39.0 Command: /home/biocbuild/bbs-3.23-bioc/R/bin/R CMD check --install=check:chromPlot.install-out.txt --library=/home/biocbuild/bbs-3.23-bioc/R/site-library --timings chromPlot_1.39.0.tar.gz StartedAt: 2025-11-06 21:51:55 -0500 (Thu, 06 Nov 2025) EndedAt: 2025-11-06 21:54:08 -0500 (Thu, 06 Nov 2025) EllapsedTime: 132.1 seconds RetCode: 0 Status: OK CheckDir: chromPlot.Rcheck Warnings: 0