Package: chromDraw Version: 2.39.0 Maintainer: Jan Janecka MaintainerEmail: jan.janecka at ceitec.muni.cz git_url: https://git.bioconductor.org/packages/chromDraw git_branch: devel git_last_commit: a2bf536 git_last_commit_date: 2025-04-15 10:37:07 -0400 (Tue, 15 Apr 2025)