Package: chopsticks Version: 1.77.0 Command: /home/biocbuild/bbs-3.23-bioc/R/bin/R CMD INSTALL chopsticks StartedAt: 2025-11-20 15:04:46 -0500 (Thu, 20 Nov 2025) EndedAt: 2025-11-20 15:05:06 -0500 (Thu, 20 Nov 2025) EllapsedTime: 20.0 seconds RetCode: 0 Status: OK