Package: chopsticks Version: 1.77.0 Command: /home/biocbuild/bbs-3.23-bioc/R/bin/R CMD build --keep-empty-dirs --no-resave-data chopsticks StartedAt: 2025-11-20 16:48:15 -0500 (Thu, 20 Nov 2025) EndedAt: 2025-11-20 16:48:41 -0500 (Thu, 20 Nov 2025) EllapsedTime: 26.0 seconds RetCode: 0 Status: OK PackageFile: chopsticks_1.77.0.tar.gz PackageFileSize: 6.642 MiB