Package: chopsticks Version: 1.75.0 Command: /Library/Frameworks/R.framework/Resources/bin/R CMD INSTALL chopsticks StartedAt: 2025-10-24 15:15:19 -0400 (Fri, 24 Oct 2025) EndedAt: 2025-10-24 15:15:56 -0400 (Fri, 24 Oct 2025) EllapsedTime: 36.8 seconds RetCode: 0 Status: OK