Package: chopsticks Version: 1.75.0 Command: /Library/Frameworks/R.framework/Resources/bin/R CMD build --keep-empty-dirs --no-resave-data chopsticks StartedAt: 2025-10-24 16:31:54 -0400 (Fri, 24 Oct 2025) EndedAt: 2025-10-24 16:32:26 -0400 (Fri, 24 Oct 2025) EllapsedTime: 31.9 seconds RetCode: 0 Status: OK PackageFile: chopsticks_1.75.0.tar.gz PackageFileSize: 6.642 MiB