Package: chopsticks Version: 1.75.0 Command: rm -rf chopsticks.buildbin-libdir && mkdir chopsticks.buildbin-libdir && /Users/biocbuild/BBS/utils/build-universal.sh chopsticks_1.75.0.tar.gz /Library/Frameworks/R.framework/Resources/bin/R chopsticks.buildbin-libdir StartedAt: 2025-10-24 01:26:46 -0400 (Fri, 24 Oct 2025) EndedAt: 2025-10-24 01:27:13 -0400 (Fri, 24 Oct 2025) EllapsedTime: 26.5 seconds RetCode: 0 Status: OK PackageFile: chopsticks_1.75.0.tgz PackageFileSize: 5.399 MiB