Package: chopsticks Version: 1.75.0 Command: /Library/Frameworks/R.framework/Resources/bin/R CMD INSTALL chopsticks StartedAt: 2025-10-03 15:03:19 -0400 (Fri, 03 Oct 2025) EndedAt: 2025-10-03 15:03:23 -0400 (Fri, 03 Oct 2025) EllapsedTime: 3.4 seconds RetCode: 1 Status: ERROR