Package: chipseq Version: 1.59.0 Command: F:\biocbuild\bbs-3.22-bioc\R\bin\R.exe CMD INSTALL chipseq StartedAt: 2025-08-14 16:54:12 -0400 (Thu, 14 Aug 2025) EndedAt: 2025-08-14 16:54:58 -0400 (Thu, 14 Aug 2025) EllapsedTime: 45.6 seconds RetCode: 0 Status: OK