Package: chipseq Version: 1.59.0 Command: chmod a+r chipseq -R && F:\biocbuild\bbs-3.22-bioc\R\bin\R.exe CMD build --keep-empty-dirs --no-resave-data chipseq StartedAt: 2025-08-14 19:06:17 -0400 (Thu, 14 Aug 2025) EndedAt: 2025-08-14 19:10:30 -0400 (Thu, 14 Aug 2025) EllapsedTime: 253.1 seconds RetCode: 0 Status: OK PackageFile: chipseq_1.59.0.tar.gz PackageFileSize: 2.031 MiB