Package: chipseq Version: 1.59.0 Command: rm -rf chipseq.buildbin-libdir && mkdir chipseq.buildbin-libdir && F:\biocbuild\bbs-3.22-bioc\R\bin\R.exe CMD INSTALL --build --library=chipseq.buildbin-libdir chipseq_1.59.0.tar.gz StartedAt: 2025-08-15 09:57:13 -0400 (Fri, 15 Aug 2025) EndedAt: 2025-08-15 09:57:51 -0400 (Fri, 15 Aug 2025) EllapsedTime: 37.3 seconds RetCode: 0 Status: OK PackageFile: chipseq_1.59.0.zip PackageFileSize: 2.115 MiB