Package: chipseq Version: 1.59.0 Command: /home/biocbuild/bbs-3.22-bioc/R/bin/R CMD check --install=check:chipseq.install-out.txt --library=/home/biocbuild/bbs-3.22-bioc/R/site-library --timings chipseq_1.59.0.tar.gz StartedAt: 2025-10-03 22:11:25 -0400 (Fri, 03 Oct 2025) EndedAt: 2025-10-03 22:17:57 -0400 (Fri, 03 Oct 2025) EllapsedTime: 392.4 seconds RetCode: 0 Status: WARNINGS CheckDir: chipseq.Rcheck Warnings: 2