Package: chipseq Version: 1.61.0 Command: /home/biocbuild/bbs-3.23-bioc/R/bin/R CMD INSTALL chipseq StartedAt: 2025-11-04 15:52:02 -0500 (Tue, 04 Nov 2025) EndedAt: 2025-11-04 15:52:32 -0500 (Tue, 04 Nov 2025) EllapsedTime: 29.4 seconds RetCode: 0 Status: OK