Package: chipseq Version: 1.61.0 Command: /home/biocbuild/bbs-3.23-bioc/R/bin/R CMD check --install=check:chipseq.install-out.txt --library=/home/biocbuild/bbs-3.23-bioc/R/site-library --timings chipseq_1.61.0.tar.gz StartedAt: 2025-11-14 21:58:58 -0500 (Fri, 14 Nov 2025) EndedAt: 2025-11-14 22:05:24 -0500 (Fri, 14 Nov 2025) EllapsedTime: 386.5 seconds RetCode: 0 Status: WARNINGS CheckDir: chipseq.Rcheck Warnings: 2