Package: chipenrich Version: 2.35.0 Command: /home/biocbuild/bbs-3.23-bioc/R/bin/R CMD INSTALL chipenrich StartedAt: 2025-11-02 15:39:59 -0500 (Sun, 02 Nov 2025) EndedAt: 2025-11-02 15:40:42 -0500 (Sun, 02 Nov 2025) EllapsedTime: 44.0 seconds RetCode: 0 Status: OK