Package: chipenrich Version: 2.33.1 Command: /Library/Frameworks/R.framework/Resources/bin/R CMD INSTALL chipenrich StartedAt: 2025-10-15 15:29:41 -0400 (Wed, 15 Oct 2025) EndedAt: 2025-10-15 15:30:42 -0400 (Wed, 15 Oct 2025) EllapsedTime: 60.9 seconds RetCode: 0 Status: OK