Package: chipenrich Version: 2.33.1 Command: /Library/Frameworks/R.framework/Resources/bin/R CMD build --keep-empty-dirs --no-resave-data chipenrich StartedAt: 2025-10-15 16:26:38 -0400 (Wed, 15 Oct 2025) EndedAt: 2025-10-15 16:28:44 -0400 (Wed, 15 Oct 2025) EllapsedTime: 125.6 seconds RetCode: 0 Status: OK PackageFile: chipenrich_2.33.1.tar.gz PackageFileSize: 655.2 KiB