Package: chipenrich Version: 2.33.1 Command: /Library/Frameworks/R.framework/Resources/bin/R CMD INSTALL chipenrich StartedAt: 2025-10-10 15:18:50 -0400 (Fri, 10 Oct 2025) EndedAt: 2025-10-10 15:19:08 -0400 (Fri, 10 Oct 2025) EllapsedTime: 18.0 seconds RetCode: 0 Status: OK