Package: chipenrich Version: 2.33.1 Command: /Library/Frameworks/R.framework/Resources/bin/R CMD build --keep-empty-dirs --no-resave-data chipenrich StartedAt: 2025-10-10 15:56:52 -0400 (Fri, 10 Oct 2025) EndedAt: 2025-10-10 15:57:33 -0400 (Fri, 10 Oct 2025) EllapsedTime: 40.5 seconds RetCode: 0 Status: OK PackageFile: chipenrich_2.33.1.tar.gz PackageFileSize: 655.8 KiB