Package: chimeraviz Version: 1.35.0 Command: /home/biocbuild/R/R/bin/R CMD INSTALL chimeraviz StartedAt: 2025-10-09 21:55:41 -0000 (Thu, 09 Oct 2025) EndedAt: 2025-10-09 21:56:51 -0000 (Thu, 09 Oct 2025) EllapsedTime: 70.5 seconds RetCode: 0 Status: OK