Package: chimeraviz Version: 1.35.0 Command: /home/biocbuild/R/R/bin/R CMD build --keep-empty-dirs --no-resave-data chimeraviz StartedAt: 2025-10-09 23:28:59 -0000 (Thu, 09 Oct 2025) EndedAt: 2025-10-09 23:33:47 -0000 (Thu, 09 Oct 2025) EllapsedTime: 288.1 seconds RetCode: 0 Status: OK PackageFile: chimeraviz_1.35.0.tar.gz PackageFileSize: 2.977 MiB