Package: chimeraviz Version: 1.35.0 Command: chmod a+r chimeraviz -R && F:\biocbuild\bbs-3.22-bioc\R\bin\R.exe CMD build --keep-empty-dirs --no-resave-data chimeraviz StartedAt: 2025-08-14 19:05:09 -0400 (Thu, 14 Aug 2025) EndedAt: 2025-08-14 19:09:52 -0400 (Thu, 14 Aug 2025) EllapsedTime: 282.7 seconds RetCode: 0 Status: OK PackageFile: chimeraviz_1.35.0.tar.gz PackageFileSize: 2.736 MiB