Package: chimeraviz Version: 1.35.0 Command: rm -rf chimeraviz.buildbin-libdir && mkdir chimeraviz.buildbin-libdir && F:\biocbuild\bbs-3.22-bioc\R\bin\R.exe CMD INSTALL --build --library=chimeraviz.buildbin-libdir chimeraviz_1.35.0.tar.gz StartedAt: 2025-08-15 09:56:40 -0400 (Fri, 15 Aug 2025) EndedAt: 2025-08-15 09:58:16 -0400 (Fri, 15 Aug 2025) EllapsedTime: 95.8 seconds RetCode: 0 Status: OK PackageFile: chimeraviz_1.35.0.zip PackageFileSize: 3.341 MiB