Package: chimeraviz Version: 1.37.0 Command: /home/biocbuild/bbs-3.23-bioc/R/bin/R CMD INSTALL chimeraviz StartedAt: 2025-11-04 15:45:12 -0500 (Tue, 04 Nov 2025) EndedAt: 2025-11-04 15:46:09 -0500 (Tue, 04 Nov 2025) EllapsedTime: 57.1 seconds RetCode: 0 Status: OK