Package: chimeraviz Version: 1.37.0 Command: /home/biocbuild/bbs-3.23-bioc/R/bin/R CMD check --install=check:chimeraviz.install-out.txt --library=/home/biocbuild/bbs-3.23-bioc/R/site-library --timings chimeraviz_1.37.0.tar.gz StartedAt: 2025-11-06 21:49:10 -0500 (Thu, 06 Nov 2025) EndedAt: 2025-11-06 22:01:53 -0500 (Thu, 06 Nov 2025) EllapsedTime: 763.1 seconds RetCode: 0 Status: OK CheckDir: chimeraviz.Rcheck Warnings: 0