Package: chimeraviz Version: 1.37.0 Command: /home/biocbuild/bbs-3.23-bioc/R/bin/R CMD build --keep-empty-dirs --no-resave-data chimeraviz StartedAt: 2025-11-04 16:44:46 -0500 (Tue, 04 Nov 2025) EndedAt: 2025-11-04 16:48:04 -0500 (Tue, 04 Nov 2025) EllapsedTime: 198.2 seconds RetCode: 0 Status: OK PackageFile: chimeraviz_1.37.0.tar.gz PackageFileSize: 3.731 MiB